BEGIN:VCALENDAR
PRODID:-//eluceo/ical//2.0/EN
VERSION:2.0
CALSCALE:GREGORIAN
BEGIN:VEVENT
UID:c924d9054d28a896825b3791a02d4752
DTSTAMP:20260419T122816Z
SUMMARY:Rotarischer Earlybird
DESCRIPTION:Webbplats: https://www.konferenzhotel.ch/restaurant-in-olten/
URL:https://rotary-zofingen.ch/sv/agenda/show/189788
DTSTART;TZID=Europe/Zurich:20250417T061500
DTEND;TZID=Europe/Zurich:20250417T073000
LOCATION:Hotel Arte\, Restaurant Pure\, Riggenbachstrasse 10\, 4600 Olten
CATEGORIES:Rotary
END:VEVENT
BEGIN:VTIMEZONE
TZID:Europe/Zurich
BEGIN:DAYLIGHT
DTSTART:20250417T061500
TZNAME:CEST
TZOFFSETTO:+0200
TZOFFSETFROM:+0200
END:DAYLIGHT
END:VTIMEZONE
END:VCALENDAR
