BEGIN:VCALENDAR
PRODID:-//eluceo/ical//2.0/EN
VERSION:2.0
CALSCALE:GREGORIAN
BEGIN:VEVENT
UID:9d3b345e211e2ae3fb99d28dd2b70593
DTSTAMP:20260419T140910Z
SUMMARY:Regio-Apéro
DESCRIPTION:Webbplats: https://www.nagysbarolten.ch/
URL:https://rotary-zofingen.ch/sv/agenda/show/189778
DTSTART;TZID=Europe/Zurich:20250312T180000
DTEND;TZID=Europe/Zurich:20250312T200000
LOCATION:Nagy's Caffè Bar e Vino\,  Kirchgasse 11\, 4600 Olten
CATEGORIES:Rotary
END:VEVENT
BEGIN:VTIMEZONE
TZID:Europe/Zurich
BEGIN:STANDARD
DTSTART:20250312T180000
TZNAME:CET
TZOFFSETTO:+0100
TZOFFSETFROM:+0100
END:STANDARD
END:VTIMEZONE
END:VCALENDAR
