BEGIN:VCALENDAR
PRODID:-//eluceo/ical//2.0/EN
VERSION:2.0
CALSCALE:GREGORIAN
BEGIN:VEVENT
UID:2292fb9a487c0766268af4b81899c820
DTSTAMP:20260419T203537Z
SUMMARY:Lunch mit Vortrag von Patrick Suppiger (BETONSUISSE)
DESCRIPTION:Webbplats: http://www.hotel-zofingen.ch
URL:https://rotary-zofingen.ch/sv/agenda/show/189774
DTSTART;TZID=Europe/Zurich:20250224T120000
DTEND;TZID=Europe/Zurich:20250224T133000
LOCATION:Hotel Zofingen\, Kirchplatz 30 \, 4800 Zofingen
CATEGORIES:Rotary
END:VEVENT
BEGIN:VTIMEZONE
TZID:Europe/Zurich
BEGIN:STANDARD
DTSTART:20250224T120000
TZNAME:CET
TZOFFSETTO:+0100
TZOFFSETFROM:+0100
END:STANDARD
END:VTIMEZONE
END:VCALENDAR
