BEGIN:VCALENDAR
PRODID:-//eluceo/ical//2.0/EN
VERSION:2.0
CALSCALE:GREGORIAN
BEGIN:VEVENT
UID:85b323e15f5fa85b597580b9feea636f
DTSTAMP:20260423T224757Z
SUMMARY:Bräteln für die heilpädagogische Sonderschule
DESCRIPTION:
URL:https://rotary-zofingen.ch/sv/agenda/show/165471
DTSTART;TZID=Europe/Zurich:20230907T110000
DTEND;TZID=Europe/Zurich:20230907T150000
LOCATION:Waldhaus zum eichige Stock
CATEGORIES:Rotary
END:VEVENT
BEGIN:VTIMEZONE
TZID:Europe/Zurich
BEGIN:DAYLIGHT
DTSTART:20230907T110000
TZNAME:CEST
TZOFFSETTO:+0200
TZOFFSETFROM:+0200
END:DAYLIGHT
END:VTIMEZONE
END:VCALENDAR
