BEGIN:VCALENDAR
PRODID:-//eluceo/ical//2.0/EN
VERSION:2.0
CALSCALE:GREGORIAN
BEGIN:VEVENT
UID:caf5772972c0f8ec397b650139c292e0
DTSTAMP:20260422T161802Z
SUMMARY:Plauderlunch
DESCRIPTION:
URL:https://rotary-zofingen.ch/sv/agenda/show/113707
DTSTART;TZID=Europe/Zurich:20210621T120000
DTEND;TZID=Europe/Zurich:20210621T133000
LOCATION:Hotel Zofingen
CATEGORIES:Rotary
END:VEVENT
BEGIN:VTIMEZONE
TZID:Europe/Zurich
BEGIN:DAYLIGHT
DTSTART:20210621T120000
TZNAME:CEST
TZOFFSETTO:+0200
TZOFFSETFROM:+0200
END:DAYLIGHT
END:VTIMEZONE
END:VCALENDAR
