BEGIN:VCALENDAR
PRODID:-//eluceo/ical//2.0/EN
VERSION:2.0
CALSCALE:GREGORIAN
BEGIN:VEVENT
UID:b1df2ed1e1df2658ebb74c75cbfcaff0
DTSTAMP:20260422T020141Z
SUMMARY:Annual Polaris meeting 2024 in Brussels
DESCRIPTION:Website: https://www.hotelbrusselsairport.com/\nSprekers: \nJan
  Trnka - Polaris product manager and IT responsible Marion de Lattre Wiese
 l - Polaris Team memberChristian Mayer - Polaris Team memberHotel location
 : https://maps.app.goo.gl/H5Bc7bDQVpjw9dmZ9
URL:https://team.polaris.rotary.ch/nl/agenda/show/180049
DTSTART;TZID=Europe/Zurich:20241118T090000
DTEND;TZID=Europe/Zurich:20241118T163000
LOCATION:Van der Valk Hotel Brussels Airport\, Culliganlaan 4b\, 1831 Diege
 m
CATEGORIES:Rotary
END:VEVENT
BEGIN:VTIMEZONE
TZID:Europe/Zurich
BEGIN:STANDARD
DTSTART:20241118T090000
TZNAME:CET
TZOFFSETTO:+0100
TZOFFSETFROM:+0100
END:STANDARD
END:VTIMEZONE
END:VCALENDAR
