BEGIN:VCALENDAR
PRODID:-//eluceo/ical//2.0/EN
VERSION:2.0
CALSCALE:GREGORIAN
BEGIN:VEVENT
UID:eddd7771cc988d0106ad1c79553ccba1
DTSTAMP:20260423T082135Z
SUMMARY:5. Charity-Golfturnier
DESCRIPTION:Conférencier(s): Anmeldeformular ausfüllen und per Email send
 en an: rotary@emilfrey.ch
URL:https://rotary-zofingen.ch/fr/agenda/show/139999
DTSTART;TZID=Europe/Zurich:20220629T090000
DTEND;TZID=Europe/Zurich:20220629T180000
LOCATION:Golfclub Heidental
CATEGORIES:Rotary
END:VEVENT
BEGIN:VTIMEZONE
TZID:Europe/Zurich
BEGIN:DAYLIGHT
DTSTART:20220629T090000
TZNAME:CEST
TZOFFSETTO:+0200
TZOFFSETFROM:+0200
END:DAYLIGHT
END:VTIMEZONE
END:VCALENDAR
