BEGIN:VCALENDAR
PRODID:-//eluceo/ical//2.0/EN
VERSION:2.0
CALSCALE:GREGORIAN
BEGIN:VEVENT
UID:de04f6f7531560219c707f3d1e7b37d0
DTSTAMP:20260423T091100Z
SUMMARY:Landwirt als Vollblutunternehmer
DESCRIPTION:Speaker(s): Thomas Haller
URL:https://rotary-zofingen.ch/en/agenda/show/49541
DTSTART;TZID=Europe/Zurich:20150330T121500
DTEND;TZID=Europe/Zurich:20150330T121500
LOCATION:Hotel Zofingen
CATEGORIES:Rotary
END:VEVENT
BEGIN:VTIMEZONE
TZID:Europe/Zurich
BEGIN:DAYLIGHT
DTSTART:20150330T121500
TZNAME:CEST
TZOFFSETTO:+0200
TZOFFSETFROM:+0200
END:DAYLIGHT
END:VTIMEZONE
END:VCALENDAR
