BEGIN:VCALENDAR
PRODID:-//eluceo/ical//2.0/EN
VERSION:2.0
CALSCALE:GREGORIAN
BEGIN:VEVENT
UID:234c72467e4f0fdf5c553c5438d9bd98
DTSTAMP:20260421T095149Z
SUMMARY:Entwicklung der Stiftung Wendepunkt
DESCRIPTION:Die Stiftung Wendepunkt ist eine innovative Unternehmung mit Si
 tz in Muhen und Betrieben an mehreren Standorten im Kanton Aargau.\nSpeake
 r(s): Hans-Peter Lang\, ehemaliger Geschäftsführer der Stiftung
URL:https://rotary-zofingen.ch/en/agenda/show/46033
DTSTART;TZID=Europe/Zurich:20150316T121500
DTEND;TZID=Europe/Zurich:20150316T121500
LOCATION:Hotel Zofingen
CATEGORIES:Rotary
END:VEVENT
BEGIN:VTIMEZONE
TZID:Europe/Zurich
BEGIN:STANDARD
DTSTART:20150316T121500
TZNAME:CET
TZOFFSETTO:+0100
TZOFFSETFROM:+0100
END:STANDARD
END:VTIMEZONE
END:VCALENDAR
