BEGIN:VCALENDAR
PRODID:-//eluceo/ical//2.0/EN
VERSION:2.0
CALSCALE:GREGORIAN
BEGIN:VEVENT
UID:f15a7adb40b867c9716e6d2da7b4a386
DTSTAMP:20260421T094826Z
SUMMARY:Kosovo im Wandel der Zeit
DESCRIPTION:Speaker(s): Rot. Oberst i Gst Christoph Fehr\, Kommandant des J
 oint Regional Detachement North
URL:https://rotary-zofingen.ch/en/agenda/show/26697
DTSTART;TZID=Europe/Zurich:20130211T121500
DTEND;TZID=Europe/Zurich:20130211T121500
LOCATION:Hotel Zofingen
CATEGORIES:Rotary
END:VEVENT
BEGIN:VTIMEZONE
TZID:Europe/Zurich
BEGIN:STANDARD
DTSTART:20130211T121500
TZNAME:CET
TZOFFSETTO:+0100
TZOFFSETFROM:+0100
END:STANDARD
END:VTIMEZONE
END:VCALENDAR
