BEGIN:VCALENDAR
PRODID:-//eluceo/ical//2.0/EN
VERSION:2.0
CALSCALE:GREGORIAN
BEGIN:VEVENT
UID:c95fb95570e059471b945f98f9cd4bf2
DTSTAMP:20260424T171610Z
SUMMARY:Lunch mit Vorstellung Halbjahres-Programm
DESCRIPTION:Website: https://www.ecken.ch/restaurant
URL:https://rotary-zofingen.ch/en/agenda/show/187393
DTSTART;TZID=Europe/Zurich:20250106T120000
DTEND;TZID=Europe/Zurich:20250106T133000
LOCATION:Restaurant zum Scharfen Ecken\, Rubernstrasse 2\, 4852 Rothrist
CATEGORIES:Rotary
END:VEVENT
BEGIN:VTIMEZONE
TZID:Europe/Zurich
BEGIN:STANDARD
DTSTART:20250106T120000
TZNAME:CET
TZOFFSETTO:+0100
TZOFFSETFROM:+0100
END:STANDARD
END:VTIMEZONE
END:VCALENDAR
