BEGIN:VCALENDAR
PRODID:-//eluceo/ical//2.0/EN
VERSION:2.0
CALSCALE:GREGORIAN
BEGIN:VEVENT
UID:6a51c45738bb97e72e415d0c5311821a
DTSTAMP:20260419T163132Z
SUMMARY:Gestion du programme - principes de base
DESCRIPTION:Webseite: https://teams.microsoft.com/meet/379608297581922?p=jE
 TNVq4hFvf4YbXQds\nReferenten/innen: Estelle Ducept - Laurent Gaube - Joach
 im Dumon - Franck-Olivier DenayerAcadémie PolarisWebinaire en langue fran
 çaise
URL:https://polaris-academy.org/de/agenda/show/211642
DTSTART;TZID=Europe/Zurich:20260520T183000
DTEND;TZID=Europe/Zurich:20260520T193000
LOCATION:En ligne
CATEGORIES:Rotary
END:VEVENT
BEGIN:VTIMEZONE
TZID:Europe/Zurich
BEGIN:DAYLIGHT
DTSTART:20260520T183000
TZNAME:CEST
TZOFFSETTO:+0200
TZOFFSETFROM:+0200
END:DAYLIGHT
END:VTIMEZONE
END:VCALENDAR
