BEGIN:VCALENDAR
PRODID:-//eluceo/ical//2.0/EN
VERSION:2.0
CALSCALE:GREGORIAN
BEGIN:VEVENT
UID:a89466de58f4442fce067294c466d585
DTSTAMP:20260422T092727Z
SUMMARY:Projekt "Lobos Pratteln"
DESCRIPTION:http://www.sulzer-buzzi.ch/referenzen/lobos_pratteln/lobos_prat
 teln.html\nGovornik(ci): Daniel Woodtli
URL:https://rotary-zofingen.ch/bs/agenda/show/53335
DTSTART;TZID=Europe/Zurich:20150824T121500
DTEND;TZID=Europe/Zurich:20150824T121500
LOCATION:Hotel Zofingen
CATEGORIES:Rotary
END:VEVENT
BEGIN:VTIMEZONE
TZID:Europe/Zurich
BEGIN:DAYLIGHT
DTSTART:20150824T121500
TZNAME:CEST
TZOFFSETTO:+0200
TZOFFSETFROM:+0200
END:DAYLIGHT
END:VTIMEZONE
END:VCALENDAR
