BEGIN:VCALENDAR
PRODID:-//eluceo/ical//2.0/EN
VERSION:2.0
CALSCALE:GREGORIAN
BEGIN:VEVENT
UID:446d49f4f40d3cd2c771f72f7ae6a035
DTSTAMP:20260422T130656Z
SUMMARY:Seniorenkonzert
DESCRIPTION:Govornik(ci): Rot. Heinrich Flückiger
URL:https://rotary-zofingen.ch/bs/agenda/show/48212
DTSTART;TZID=Europe/Zurich:20150226T140000
DTEND;TZID=Europe/Zurich:20150226T140000
LOCATION:Katholisches Kirchgemeindehaus Strengelbach
CATEGORIES:Rotary
END:VEVENT
BEGIN:VTIMEZONE
TZID:Europe/Zurich
BEGIN:STANDARD
DTSTART:20150226T140000
TZNAME:CET
TZOFFSETTO:+0100
TZOFFSETFROM:+0100
END:STANDARD
END:VTIMEZONE
END:VCALENDAR
