BEGIN:VCALENDAR
PRODID:-//eluceo/ical//2.0/EN
VERSION:2.0
CALSCALE:GREGORIAN
BEGIN:VEVENT
UID:08f02172a7faaeeba972fd9cc8afe317
DTSTAMP:20260422T111847Z
SUMMARY:Kandidatengespräch Ständeratswahlen 2015
DESCRIPTION:Meni: Nationalrat Hansjörg Knecht informiert auf seiner Websei
 te über sich\nGovornik(ci): Nationalrat Hansjörg Knecht\, SVP Leibstadt
URL:https://rotary-zofingen.ch/bs/agenda/show/46050
DTSTART;TZID=Europe/Zurich:20150608T121500
DTEND;TZID=Europe/Zurich:20150608T121500
LOCATION:Hotel Zofingen
CATEGORIES:Rotary
END:VEVENT
BEGIN:VTIMEZONE
TZID:Europe/Zurich
BEGIN:DAYLIGHT
DTSTART:20150608T121500
TZNAME:CEST
TZOFFSETTO:+0200
TZOFFSETFROM:+0200
END:DAYLIGHT
END:VTIMEZONE
END:VCALENDAR
