BEGIN:VCALENDAR
PRODID:-//eluceo/ical//2.0/EN
VERSION:2.0
CALSCALE:GREGORIAN
BEGIN:VEVENT
UID:0f760b4511579e9412a23ef89d5f356d
DTSTAMP:20260422T112219Z
SUMMARY:Was bringt die Zofingia der Stadt Zofingen?
DESCRIPTION:Wer sich über die Zofingia informieren will kann dies über An
 klicken des Links tun\nGovornik(ci): Pfarrer Dr. h.c. Markus B. Christ\, C
 entralaktuar Altzofingerverein
URL:https://rotary-zofingen.ch/bs/agenda/show/46038
DTSTART;TZID=Europe/Zurich:20150420T121500
DTEND;TZID=Europe/Zurich:20150420T121500
LOCATION:Hotel Zofingen
CATEGORIES:Rotary
END:VEVENT
BEGIN:VTIMEZONE
TZID:Europe/Zurich
BEGIN:DAYLIGHT
DTSTART:20150420T121500
TZNAME:CEST
TZOFFSETTO:+0200
TZOFFSETFROM:+0200
END:DAYLIGHT
END:VTIMEZONE
END:VCALENDAR
