BEGIN:VCALENDAR
PRODID:-//eluceo/ical//2.0/EN
VERSION:2.0
CALSCALE:GREGORIAN
BEGIN:VEVENT
UID:07183504ed2c2ca55826246658973b4a
DTSTAMP:20260424T082332Z
SUMMARY:Regio-Apéro
DESCRIPTION:
URL:https://rotary-zofingen.ch/bs/agenda/show/46019
DTSTART;TZID=Europe/Zurich:20150114T181500
DTEND;TZID=Europe/Zurich:20150114T181500
LOCATION:Hotel Olten
CATEGORIES:Rotary
END:VEVENT
BEGIN:VTIMEZONE
TZID:Europe/Zurich
BEGIN:STANDARD
DTSTART:20150114T181500
TZNAME:CET
TZOFFSETTO:+0100
TZOFFSETFROM:+0100
END:STANDARD
END:VTIMEZONE
END:VCALENDAR
