BEGIN:VCALENDAR
PRODID:-//eluceo/ical//2.0/EN
VERSION:2.0
CALSCALE:GREGORIAN
BEGIN:VEVENT
UID:8326e2a9fbc1c9431b307082d316c96e
DTSTAMP:20260422T092859Z
SUMMARY:Anlass unserer Rotary-Frauen: Cookuk - ein Kochkurs der besonderen 
 Art
DESCRIPTION:Dieser Anlass im Cookuk steht allen Partnerinnen der Mitglieder
  des RC Zofingen offen. Auskünfte erteilt Petra Rhiner (Mail: petra.rhine
 r@ksb.ch\, Telefon: 079 703 26 85)\nGovornik(ci): Petra Rhiner\, Martina H
 aller und Nadia Buzzi
URL:https://rotary-zofingen.ch/bs/agenda/show/43001
DTSTART;TZID=Europe/Zurich:20141106T000000
DTEND;TZID=Europe/Zurich:20141106T000000
LOCATION:Aarau
CATEGORIES:Rotary
END:VEVENT
BEGIN:VTIMEZONE
TZID:Europe/Zurich
BEGIN:STANDARD
DTSTART:20141106T000000
TZNAME:CET
TZOFFSETTO:+0100
TZOFFSETFROM:+0100
END:STANDARD
END:VTIMEZONE
END:VCALENDAR
