BEGIN:VCALENDAR
PRODID:-//eluceo/ical//2.0/EN
VERSION:2.0
CALSCALE:GREGORIAN
BEGIN:VEVENT
UID:12215a07cf913f7aee74e540fab72032
DTSTAMP:20260420T094032Z
SUMMARY:Plauderlunch
DESCRIPTION:
URL:https://rotary-zofingen.ch/bs/agenda/show/37299
DTSTART;TZID=Europe/Zurich:20140224T121500
DTEND;TZID=Europe/Zurich:20140224T121500
LOCATION:Hotel Zofingen
CATEGORIES:Rotary
END:VEVENT
BEGIN:VTIMEZONE
TZID:Europe/Zurich
BEGIN:STANDARD
DTSTART:20140224T121500
TZNAME:CET
TZOFFSETTO:+0100
TZOFFSETFROM:+0100
END:STANDARD
END:VTIMEZONE
END:VCALENDAR
