BEGIN:VCALENDAR
PRODID:-//eluceo/ical//2.0/EN
VERSION:2.0
CALSCALE:GREGORIAN
BEGIN:VEVENT
UID:4e578a1d5b5ac176d49568298fe49f60
DTSTAMP:20260420T094444Z
SUMMARY:Jassabend
DESCRIPTION:
URL:https://rotary-zofingen.ch/bs/agenda/show/37295
DTSTART;TZID=Europe/Zurich:20140211T183000
DTEND;TZID=Europe/Zurich:20140211T183000
LOCATION:Hotel Zofingen
CATEGORIES:Rotary
END:VEVENT
BEGIN:VTIMEZONE
TZID:Europe/Zurich
BEGIN:STANDARD
DTSTART:20140211T183000
TZNAME:CET
TZOFFSETTO:+0100
TZOFFSETFROM:+0100
END:STANDARD
END:VTIMEZONE
END:VCALENDAR
