BEGIN:VCALENDAR
PRODID:-//eluceo/ical//2.0/EN
VERSION:2.0
CALSCALE:GREGORIAN
BEGIN:VEVENT
UID:351c2365e47f3955544cf35d9d1627c7
DTSTAMP:20260420T105345Z
SUMMARY:Plauderlunch
DESCRIPTION:
URL:https://rotary-zofingen.ch/bs/agenda/show/37293
DTSTART;TZID=Europe/Zurich:20140203T121500
DTEND;TZID=Europe/Zurich:20140203T121500
LOCATION:Scharfen Ecken Rothrist
CATEGORIES:Rotary
END:VEVENT
BEGIN:VTIMEZONE
TZID:Europe/Zurich
BEGIN:STANDARD
DTSTART:20140203T121500
TZNAME:CET
TZOFFSETTO:+0100
TZOFFSETFROM:+0100
END:STANDARD
END:VTIMEZONE
END:VCALENDAR
