BEGIN:VCALENDAR
PRODID:-//eluceo/ical//2.0/EN
VERSION:2.0
CALSCALE:GREGORIAN
BEGIN:VEVENT
UID:a0b5f930d7e4a35f944debc527bc838b
DTSTAMP:20260422T114516Z
SUMMARY:Projekt WortSchatz
DESCRIPTION:Web stranica: http://www.rc-ellwangen.de/\nGovornik(ci): Rot. D
 ieter Eissmann\, RC Ellwangen
URL:https://rotary-zofingen.ch/bs/agenda/show/37292
DTSTART;TZID=Europe/Zurich:20140127T121500
DTEND;TZID=Europe/Zurich:20140127T121500
LOCATION:Hotel Zofingen
CATEGORIES:Rotary
END:VEVENT
BEGIN:VTIMEZONE
TZID:Europe/Zurich
BEGIN:STANDARD
DTSTART:20140127T121500
TZNAME:CET
TZOFFSETTO:+0100
TZOFFSETFROM:+0100
END:STANDARD
END:VTIMEZONE
END:VCALENDAR
