BEGIN:VCALENDAR
PRODID:-//eluceo/ical//2.0/EN
VERSION:2.0
CALSCALE:GREGORIAN
BEGIN:VEVENT
UID:c881132fdbbe5d22ac574d6c74f234cf
DTSTAMP:20260420T132159Z
SUMMARY:Chlaushock
DESCRIPTION:Bitte Einladung in der Beilage beachten
URL:https://rotary-zofingen.ch/bs/agenda/show/31420
DTSTART;TZID=Europe/Zurich:20131201T000000
DTEND;TZID=Europe/Zurich:20131201T000000
LOCATION:-
CATEGORIES:Rotary
END:VEVENT
BEGIN:VTIMEZONE
TZID:Europe/Zurich
BEGIN:STANDARD
DTSTART:20131201T000000
TZNAME:CET
TZOFFSETTO:+0100
TZOFFSETFROM:+0100
END:STANDARD
END:VTIMEZONE
END:VCALENDAR
