BEGIN:VCALENDAR
PRODID:-//eluceo/ical//2.0/EN
VERSION:2.0
CALSCALE:GREGORIAN
BEGIN:VEVENT
UID:44bb61fcc2f1c7ed76b4c75e69cee13d
DTSTAMP:20260420T094718Z
SUMMARY:Plauderlunch
DESCRIPTION:
URL:https://rotary-zofingen.ch/bs/agenda/show/31415
DTSTART;TZID=Europe/Zurich:20131104T121500
DTEND;TZID=Europe/Zurich:20131104T121500
LOCATION:Scharfen Ecken Rothrist
CATEGORIES:Rotary
END:VEVENT
BEGIN:VTIMEZONE
TZID:Europe/Zurich
BEGIN:STANDARD
DTSTART:20131104T121500
TZNAME:CET
TZOFFSETTO:+0100
TZOFFSETFROM:+0100
END:STANDARD
END:VTIMEZONE
END:VCALENDAR
