BEGIN:VCALENDAR
PRODID:-//eluceo/ical//2.0/EN
VERSION:2.0
CALSCALE:GREGORIAN
BEGIN:VEVENT
UID:3ef5d48cc31438e1477404ff469b4d66
DTSTAMP:20260420T094918Z
SUMMARY:Energiezukunft Gas
DESCRIPTION:Govornik(ci): Paul Marbach\, Geschäftsführer Städtische Werk
 e Zofingen
URL:https://rotary-zofingen.ch/bs/agenda/show/31412
DTSTART;TZID=Europe/Zurich:20131014T121500
DTEND;TZID=Europe/Zurich:20131014T121500
LOCATION:Hotel Zofingen
CATEGORIES:Rotary
END:VEVENT
BEGIN:VTIMEZONE
TZID:Europe/Zurich
BEGIN:DAYLIGHT
DTSTART:20131014T121500
TZNAME:CEST
TZOFFSETTO:+0200
TZOFFSETFROM:+0200
END:DAYLIGHT
END:VTIMEZONE
END:VCALENDAR
