BEGIN:VCALENDAR
PRODID:-//eluceo/ical//2.0/EN
VERSION:2.0
CALSCALE:GREGORIAN
BEGIN:VEVENT
UID:a9ced18ba8d380ae074a2a799e93bd10
DTSTAMP:20260424T093035Z
SUMMARY:Aiducation International - Bildung in Entwicklungsländern
DESCRIPTION:Govornik(ci): Rot. Kapitza\, RC Zürich
URL:https://rotary-zofingen.ch/bs/agenda/show/31410
DTSTART;TZID=Europe/Zurich:20130930T121500
DTEND;TZID=Europe/Zurich:20130930T121500
LOCATION:Hotel Zofingen
CATEGORIES:Rotary
END:VEVENT
BEGIN:VTIMEZONE
TZID:Europe/Zurich
BEGIN:DAYLIGHT
DTSTART:20130930T121500
TZNAME:CEST
TZOFFSETTO:+0200
TZOFFSETFROM:+0200
END:DAYLIGHT
END:VTIMEZONE
END:VCALENDAR
