BEGIN:VCALENDAR
PRODID:-//eluceo/ical//2.0/EN
VERSION:2.0
CALSCALE:GREGORIAN
BEGIN:VEVENT
UID:518bd384a31820a01ad77645fd0fd0a0
DTSTAMP:20260420T093832Z
SUMMARY:Sommerlunch
DESCRIPTION:Damenanlass\nGovornik(ci): Rot. Daniel Zünd
URL:https://rotary-zofingen.ch/bs/agenda/show/31395
DTSTART;TZID=Europe/Zurich:20130708T121500
DTEND;TZID=Europe/Zurich:20130708T121500
LOCATION:Höchacker Safenwil
CATEGORIES:Rotary
END:VEVENT
BEGIN:VTIMEZONE
TZID:Europe/Zurich
BEGIN:DAYLIGHT
DTSTART:20130708T121500
TZNAME:CEST
TZOFFSETTO:+0200
TZOFFSETFROM:+0200
END:DAYLIGHT
END:VTIMEZONE
END:VCALENDAR
