BEGIN:VCALENDAR
PRODID:-//eluceo/ical//2.0/EN
VERSION:2.0
CALSCALE:GREGORIAN
BEGIN:VEVENT
UID:0bfa93bdd3abaf59aa3a0d23d9d82511
DTSTAMP:20260420T105731Z
SUMMARY:1. Charity-Golfturnier ROKJ
DESCRIPTION:Bitte die Unterlagen in der Beilage beachten!\nWeb stranica: ht
 tp://www.golfsuisse.ch/public/home.cfm
URL:https://rotary-zofingen.ch/bs/agenda/show/30869
DTSTART;TZID=Europe/Zurich:20130819T150000
DTEND;TZID=Europe/Zurich:20130819T150000
LOCATION:Golfclub Heidental\, 4655 Stüsslingen SO
CATEGORIES:Rotary
END:VEVENT
BEGIN:VTIMEZONE
TZID:Europe/Zurich
BEGIN:DAYLIGHT
DTSTART:20130819T150000
TZNAME:CEST
TZOFFSETTO:+0200
TZOFFSETFROM:+0200
END:DAYLIGHT
END:VTIMEZONE
END:VCALENDAR
