BEGIN:VCALENDAR
PRODID:-//eluceo/ical//2.0/EN
VERSION:2.0
CALSCALE:GREGORIAN
BEGIN:VEVENT
UID:ca03d33a2da961c0b6bfbed27ccd994b
DTSTAMP:20260422T113829Z
SUMMARY:Trauerlunch für Rot. Hans Müller
DESCRIPTION:Govornik(ci): Rot. Hans Moor
URL:https://rotary-zofingen.ch/bs/agenda/show/27977
DTSTART;TZID=Europe/Zurich:20130318T121500
DTEND;TZID=Europe/Zurich:20130318T121500
LOCATION:Hotel Zofingen
CATEGORIES:Rotary
END:VEVENT
BEGIN:VTIMEZONE
TZID:Europe/Zurich
BEGIN:STANDARD
DTSTART:20130318T121500
TZNAME:CET
TZOFFSETTO:+0100
TZOFFSETFROM:+0100
END:STANDARD
END:VTIMEZONE
END:VCALENDAR
