BEGIN:VCALENDAR
PRODID:-//eluceo/ical//2.0/EN
VERSION:2.0
CALSCALE:GREGORIAN
BEGIN:VEVENT
UID:012a71e4f72c2639d0addca28ae3b0f6
DTSTAMP:20260420T094215Z
SUMMARY:Plauderlunch
DESCRIPTION:
URL:https://rotary-zofingen.ch/bs/agenda/show/27972
DTSTART;TZID=Europe/Zurich:20130304T121500
DTEND;TZID=Europe/Zurich:20130304T121500
LOCATION:Scharfen Ecken
CATEGORIES:Rotary
END:VEVENT
BEGIN:VTIMEZONE
TZID:Europe/Zurich
BEGIN:STANDARD
DTSTART:20130304T121500
TZNAME:CET
TZOFFSETTO:+0100
TZOFFSETFROM:+0100
END:STANDARD
END:VTIMEZONE
END:VCALENDAR
