BEGIN:VCALENDAR
PRODID:-//eluceo/ical//2.0/EN
VERSION:2.0
CALSCALE:GREGORIAN
BEGIN:VEVENT
UID:650b46f6dab33ceca5098a27c5147266
DTSTAMP:20260422T090910Z
SUMMARY:Plauderlunch
DESCRIPTION:
URL:https://rotary-zofingen.ch/bs/agenda/show/25560
DTSTART;TZID=Europe/Zurich:20121001T121500
DTEND;TZID=Europe/Zurich:20121001T121500
LOCATION:Scharfen Ecken
CATEGORIES:Rotary
END:VEVENT
BEGIN:VTIMEZONE
TZID:Europe/Zurich
BEGIN:DAYLIGHT
DTSTART:20121001T121500
TZNAME:CEST
TZOFFSETTO:+0200
TZOFFSETFROM:+0200
END:DAYLIGHT
END:VTIMEZONE
END:VCALENDAR
